BEGIN:VCALENDAR
PRODID:-//Microsoft Corporation//Outlook 12.0 MIMEDIR//EN
VERSION:2.0
METHOD:PUBLISH
X-MS-OLK-FORCEINSPECTOROPEN:TRUE
BEGIN:VEVENT
CLASS:PUBLIC
CREATED:20091109T101015Z
DESCRIPTION:<!DOCTYPE html>
<html>
<head>
</head>
<body>
<p>Wir d&uuml;rfen die Jugitage 2026 zu Hause durchf&uuml;hren.</p>
<p>&nbsp;</p>
<p>Reserviert euch das Datum und Unterst&uuml;tzt unsere Kids.</p>
<p>&nbsp;</p>
<p>&ouml;ffentliche Festlichkeit am Abend f&uuml;r Gross und Klein.</p>
<p>&nbsp;</p>
<p>Hier gehts zur Webseite:&nbsp;<a href="https://jugitage2026.tvb.ch/">Jugitage 2026 B&auml;tterkinden</a></p>
<p>&nbsp;</p>
<p><strong>freiwillige Helfer/Innen gesucht</strong></p>
</body>
</html>
DTEND:20260613T090000
DTSTAMP:20091109T093305
DTSTART:20260613T080000
LAST-MODIFIED:20091109T101015
LOCATION:Dorfmatt / Bätterkinden
PRIORITY:5
SEQUENCE:0
SUMMARY;LANGUAGE=en-us:Jugitage
TRANSP:OPAQUE
UID:040000008200E00074C5B7101A82E008000000008062306C6261CA01000000000000000
X-MICROSOFT-CDO-BUSYSTATUS:BUSY
X-MICROSOFT-CDO-IMPORTANCE:1
X-MICROSOFT-DISALLOW-COUNTER:FALSE
X-MS-OLK-ALLOWEXTERNCHECK:TRUE
X-MS-OLK-AUTOFILLLOCATION:FALSE
X-MS-OLK-CONFTYPE:0
BEGIN:VALARM
TRIGGER:-PT1440M
ACTION:DISPLAY
DESCRIPTION:Reminder
END:VALARM
END:VEVENT
END:VCALENDAR
