BEGIN:VCALENDAR
PRODID:-//Microsoft Corporation//Outlook 12.0 MIMEDIR//EN
VERSION:2.0
METHOD:PUBLISH
X-MS-OLK-FORCEINSPECTOROPEN:TRUE
BEGIN:VEVENT
CLASS:PUBLIC
CREATED:20091109T101015Z
DESCRIPTION:<!DOCTYPE html>
<html>
<head>
</head>
<body>
<p>Anmeldung offen</p>
<p>&nbsp;</p>
<p>Alle Infos im Flyer</p>
<p>&nbsp;</p>
<p>Festwirtschaft f&uuml;r alle L&auml;ufer/-innen und den Support vor Ort!</p>
<p>&nbsp;</p>
<p><strong>NEU AUCH WALKING - KATEGORIE</strong></p>
</body>
</html>
DTEND:20260520T200000
DTSTAMP:20091109T093305
DTSTART:20260520T170000
LAST-MODIFIED:20091109T101015
LOCATION:Hornusserhütte / Kräiligen
PRIORITY:5
SEQUENCE:0
SUMMARY;LANGUAGE=en-us:41. Kräiliger Geländelauf
TRANSP:OPAQUE
UID:040000008200E00074C5B7101A82E008000000008062306C6261CA01000000000000000
X-MICROSOFT-CDO-BUSYSTATUS:BUSY
X-MICROSOFT-CDO-IMPORTANCE:1
X-MICROSOFT-DISALLOW-COUNTER:FALSE
X-MS-OLK-ALLOWEXTERNCHECK:TRUE
X-MS-OLK-AUTOFILLLOCATION:FALSE
X-MS-OLK-CONFTYPE:0
BEGIN:VALARM
TRIGGER:-PT1440M
ACTION:DISPLAY
DESCRIPTION:Reminder
END:VALARM
END:VEVENT
END:VCALENDAR
